BEGIN:VCALENDAR
VERSION:2.0
PRODID:icalendar-ruby
CALSCALE:GREGORIAN
METHOD:PUBLISH
BEGIN:VEVENT
DTSTAMP:20260422T090212Z
UID:25-489790@ssaz.org
DTSTART:20260823T203000Z
DTEND:20261025T220000Z
CLASS:PUBLIC
CREATED:20260421T175719
DESCRIPTION:Experience deeper connection and improved communication in your
  marriage\, family\, relationships and your faith.
LAST-MODIFIED:20260421T175719
LOCATION:
SUMMARY:Love & Respect Course
URL;VALUE=URI:https://www.ssaz.org/events/love-respect-course/2026-08-23
ATTACH;FILENAME=Banner.png;FMTTYPE=image/png:https://dq5pwpg1q8ru0.cloudfro
 nt.net/2025/09/24/19/47/10/38a2ca02-baa3-4841-becd-306f1f4c1e43/Banner.png
END:VEVENT
END:VCALENDAR
