BEGIN:VCALENDAR
VERSION:2.0
PRODID:icalendar-ruby
CALSCALE:GREGORIAN
METHOD:PUBLISH
BEGIN:VEVENT
DTSTAMP:20260419T225252Z
UID:14-483453@ssaz.org
DTSTART:20260913T173000Z
DTEND:20260913T190000Z
CLASS:PUBLIC
CREATED:20260419T130029
DESCRIPTION:Join us Every Sunday morning at 10:30 a.m. for an inspiring tim
 e of Worship and the the Word!
LAST-MODIFIED:20260419T130029
LOCATION:
SUMMARY:Sunday
URL;VALUE=URI:https://www.ssaz.org/events/sunday/2026-09-13
END:VEVENT
END:VCALENDAR
