BEGIN:VCALENDAR
VERSION:2.0
PRODID:icalendar-ruby
CALSCALE:GREGORIAN
METHOD:PUBLISH
BEGIN:VEVENT
DTSTAMP:20260420T062920Z
UID:14-484294@ssaz.org
DTSTART:20261011T173000Z
DTEND:20261011T190000Z
CLASS:PUBLIC
CREATED:20260419T202113
DESCRIPTION:Join us Every Sunday morning at 10:30 a.m. for an inspiring tim
 e of Worship and the the Word!
LAST-MODIFIED:20260419T202113
LOCATION:
SUMMARY:Sunday
URL;VALUE=URI:https://www.ssaz.org/events/sunday/2026-10-11
END:VEVENT
END:VCALENDAR
