BEGIN:VCALENDAR
VERSION:2.0
PRODID:icalendar-ruby
CALSCALE:GREGORIAN
METHOD:PUBLISH
BEGIN:VEVENT
DTSTAMP:20260422T112329Z
UID:14-489743@ssaz.org
DTSTART:20261025T173000Z
DTEND:20261025T190000Z
CLASS:PUBLIC
CREATED:20260421T175719
DESCRIPTION:Join us Every Sunday morning at 10:30 a.m. for an inspiring tim
 e of Worship and the the Word!
LAST-MODIFIED:20260421T175719
LOCATION:
SUMMARY:Sunday
URL;VALUE=URI:https://www.ssaz.org/events/sunday/2026-10-25
END:VEVENT
END:VCALENDAR
