BEGIN:VCALENDAR
VERSION:2.0
PRODID:icalendar-ruby
CALSCALE:GREGORIAN
METHOD:PUBLISH
BEGIN:VEVENT
DTSTAMP:20260422T130129Z
UID:14-490163@ssaz.org
DTSTART:20261101T173000Z
DTEND:20261101T190000Z
CLASS:PUBLIC
CREATED:20260422T050152
DESCRIPTION:Join us Every Sunday morning at 10:30 a.m. for an inspiring tim
 e of Worship and the the Word!
LAST-MODIFIED:20260422T050152
LOCATION:
SUMMARY:Sunday
URL;VALUE=URI:https://www.ssaz.org/events/sunday/2026-11-01
END:VEVENT
END:VCALENDAR
