BEGIN:VCALENDAR
VERSION:2.0
PRODID:icalendar-ruby
CALSCALE:GREGORIAN
METHOD:PUBLISH
BEGIN:VEVENT
DTSTAMP:20260420T042208Z
UID:11-484046@ssaz.org
DTSTART:20260917T020000Z
DTEND:20260917T030000Z
CLASS:PUBLIC
CREATED:20260419T202112
DESCRIPTION:
LAST-MODIFIED:20260419T202112
LOCATION:
SUMMARY:Wed Night Bible Study
URL;VALUE=URI:https://www.ssaz.org/events/wed-night-bible-study/2026-09-16
ATTACH;FILENAME=FzpWW.jpg;FMTTYPE=image/jpeg:https://dq5pwpg1q8ru0.cloudfro
 nt.net/2024/05/17/20/30/18/ea900653-d033-47db-a777-0e973ab1e46e/FzpWW.jpg
END:VEVENT
END:VCALENDAR
